BEGIN:VCALENDAR
VERSION:2.0
PRODID:-//Squarespace Inc/Squarespace 6//v6//EN
BEGIN:VEVENT
UID:54347f89e4b025c654176b9f@squarespace.com
DTSTAMP:20150709T074210Z
DTSTART:20151016T223000Z
DTEND:20151018T233000Z
SUMMARY:Equidays - New Zealand
GEO:-37.787001;175.279253
LOCATION:Equidays\, Gate 2\, 125 Mystery Creek Rd\, Hamilton\, New Zealand
END:VEVENT
END:VCALENDAR
