BEGIN:VCALENDAR
VERSION:2.0
PRODID:-//Squarespace Inc/Squarespace 6//v6//EN
BEGIN:VEVENT
UID:559e25ede4b0820c03243be0@squarespace.com
DTSTAMP:20150709T074243Z
DTSTART:20151109T070000Z
DTEND:20151109T080000Z
SUMMARY:Test Event Three
END:VEVENT
END:VCALENDAR
