BEGIN:VCALENDAR
VERSION:2.0
PRODID:-//Squarespace Inc/Squarespace 6//v6//EN
BEGIN:VEVENT
UID:559e25fce4b0820c03243c07@squarespace.com
DTSTAMP:20150709T074257Z
DTSTART:20150828T080000Z
DTEND:20150828T090000Z
SUMMARY:Test Event Four
END:VEVENT
END:VCALENDAR
