BEGIN:VCALENDAR
VERSION:2.0
PRODID:-//Squarespace Inc/Squarespace 6//v6//EN
BEGIN:VEVENT
UID:559e25dbe4b0de444197ced5@squarespace.com
DTSTAMP:20150709T074228Z
DTSTART:20150909T080000Z
DTEND:20150909T090000Z
SUMMARY:Test Event Two
END:VEVENT
END:VCALENDAR
